BEGIN:VCALENDAR
VERSION:2.0
PRODID:-//Tukios.com/
BEGIN:VEVENT
UID:bed33c59-9baf-4730-8815-5eb2a334dd90@www.lundyfuneralhome.com
DTSTAMP:20260422T204543Z
DTSTART:20260422T180000Z
DTEND:20260422T203000Z
SUMMARY:Public Viewing
DESCRIPTION:
URL:https://www.lundyfuneralhome.com/obituaries/randy-stevens
LOCATION: 500 State St  Carthage NY 13619
GEO:43.9795943;-75.6072455
END:VEVENT
END:VCALENDAR