BEGIN:VCALENDAR
VERSION:2.0
PRODID:-//Tukios.com/
BEGIN:VEVENT
UID:38f84fad-4b03-4d62-81bc-98e6fa7f8317@www.lundyfuneralhome.com
DTSTAMP:20260422T203936Z
DTSTART:20260422T203000Z
DTEND:20260422T211500Z
SUMMARY:Funeral Service
DESCRIPTION:
URL:https://www.lundyfuneralhome.com/obituaries/randy-stevens
LOCATION: 500 State St  Carthage NY 13619
GEO:43.9795943;-75.6072455
END:VEVENT
END:VCALENDAR